BEGIN:VCALENDAR
VERSION:2.0
PRODID:-//Vincennes/Knox County VTB - ECPv5.14.1//NONSGML v1.0//EN
CALSCALE:GREGORIAN
METHOD:PUBLISH
X-WR-CALNAME:Vincennes/Knox County VTB
X-ORIGINAL-URL:https://visitvincennes.org
X-WR-CALDESC:Events for Vincennes/Knox County VTB
BEGIN:VTIMEZONE
TZID:America/Indiana/Knox
BEGIN:DAYLIGHT
TZOFFSETFROM:-0600
TZOFFSETTO:-0500
TZNAME:CDT
DTSTART:20260308T080000
END:DAYLIGHT
BEGIN:STANDARD
TZOFFSETFROM:-0500
TZOFFSETTO:-0600
TZNAME:CST
DTSTART:20261101T070000
END:STANDARD
END:VTIMEZONE
BEGIN:VEVENT
DTSTART;TZID=America/Indiana/Knox:20260808T100000
DTEND;TZID=America/Indiana/Knox:20260808T160000
DTSTAMP:20260420T045104
CREATED:20260313T184525Z
LAST-MODIFIED:20260313T184535Z
UID:15941-1786183200-1786204800@visitvincennes.org
SUMMARY:Watermelon Festival
DESCRIPTION:
URL:https://visitvincennes.org/event/watermelon-festival-4/
LOCATION:Patrick Henry Square\, Market Street\, Vincennes\, Indiana\, 47591\, United States
END:VEVENT
END:VCALENDAR