BEGIN:VCALENDAR
VERSION:2.0
PRODID:-//Vincennes/Knox County VTB - ECPv5.14.1//NONSGML v1.0//EN
CALSCALE:GREGORIAN
METHOD:PUBLISH
X-WR-CALNAME:Vincennes/Knox County VTB
X-ORIGINAL-URL:https://visitvincennes.org
X-WR-CALDESC:Events for Vincennes/Knox County VTB
BEGIN:VTIMEZONE
TZID:America/Indiana/Knox
BEGIN:DAYLIGHT
TZOFFSETFROM:-0600
TZOFFSETTO:-0500
TZNAME:CDT
DTSTART:20250309T080000
END:DAYLIGHT
BEGIN:STANDARD
TZOFFSETFROM:-0500
TZOFFSETTO:-0600
TZNAME:CST
DTSTART:20251102T070000
END:STANDARD
END:VTIMEZONE
BEGIN:VEVENT
DTSTART;TZID=America/Indiana/Knox:20250509T000000
DTEND;TZID=America/Indiana/Knox:20250509T235959
DTSTAMP:20260424T073439
CREATED:20250508T182640Z
LAST-MODIFIED:20250508T182651Z
UID:14618-1746748800-1746835199@visitvincennes.org
SUMMARY:VU Men's and Women's Track & Field
DESCRIPTION:ISU Sycamore Open at Gibson Track and Field Complex
URL:https://visitvincennes.org/event/vu-track-field/
LOCATION:Gibson Track and Field Complex\, 320 N 1st St\, Terre Haute\, Indiana\, 47807\, United States
END:VEVENT
END:VCALENDAR