BEGIN:VCALENDAR
VERSION:2.0
PRODID:-//Vincennes/Knox County VTB - ECPv5.14.1//NONSGML v1.0//EN
CALSCALE:GREGORIAN
METHOD:PUBLISH
X-WR-CALNAME:Vincennes/Knox County VTB
X-ORIGINAL-URL:https://visitvincennes.org
X-WR-CALDESC:Events for Vincennes/Knox County VTB
BEGIN:VTIMEZONE
TZID:America/Indiana/Knox
BEGIN:DAYLIGHT
TZOFFSETFROM:-0600
TZOFFSETTO:-0500
TZNAME:CDT
DTSTART:20210314T080000
END:DAYLIGHT
BEGIN:STANDARD
TZOFFSETFROM:-0500
TZOFFSETTO:-0600
TZNAME:CST
DTSTART:20211107T070000
END:STANDARD
END:VTIMEZONE
BEGIN:VEVENT
DTSTART;TZID=America/Indiana/Knox:20211211T183000
DTEND;TZID=America/Indiana/Knox:20211211T200000
DTSTAMP:20260423T120621
CREATED:20211123T214446Z
LAST-MODIFIED:20211210T194057Z
UID:6307-1639247400-1639252800@visitvincennes.org
SUMMARY:Vincennes Parade of Lights
DESCRIPTION:The Parade of Lights will line up on 1st Street.  The parade will proceed down Main Street from 1st Street to 10th Street where it ends.  For more information or to sign up click here .
URL:https://visitvincennes.org/event/vincennes-parade-of-lights/
LOCATION:Downtown Vincennes\, United States
END:VEVENT
END:VCALENDAR