BEGIN:VCALENDAR
VERSION:2.0
PRODID:-//Vincennes/Knox County VTB - ECPv5.14.1//NONSGML v1.0//EN
CALSCALE:GREGORIAN
METHOD:PUBLISH
X-WR-CALNAME:Vincennes/Knox County VTB
X-ORIGINAL-URL:https://visitvincennes.org
X-WR-CALDESC:Events for Vincennes/Knox County VTB
BEGIN:VTIMEZONE
TZID:America/Indiana/Knox
BEGIN:DAYLIGHT
TZOFFSETFROM:-0600
TZOFFSETTO:-0500
TZNAME:CDT
DTSTART:20210314T080000
END:DAYLIGHT
BEGIN:STANDARD
TZOFFSETFROM:-0500
TZOFFSETTO:-0600
TZNAME:CST
DTSTART:20211107T070000
END:STANDARD
END:VTIMEZONE
BEGIN:VEVENT
DTSTART;TZID=America/Indiana/Knox:20210521T080000
DTEND;TZID=America/Indiana/Knox:20210523T170000
DTSTAMP:20260421T043541
CREATED:20210408T145217Z
LAST-MODIFIED:20210413T153116Z
UID:4677-1621584000-1621789200@visitvincennes.org
SUMMARY:The Great U. S. 50 Yard Sale - Knox County\, Indiana
DESCRIPTION:Empty our your car and clear out your truck bed because the Great U. S. 50 Yard Sale is coming up!  During the weekend of May 21 – 23 and from East to West\, yard sales will be popping up along Route 50 brimming with treasurers and bargains for the picking.  Watch for signs just off the highway for more sales and keep in mind that hours vary for each sale.   \n\n\n\nKnox County residents are welcome to host their own yard sales!  Indiana’s U. S. 50 Yard Sale route starts just off the Memorial Bridge by George Rogers Clark NHP (across the Wabash River from Illinois) and continues along U. S. 50 ending in Wheatland.
URL:https://visitvincennes.org/event/us-50-yard-sale/
END:VEVENT
END:VCALENDAR