BEGIN:VCALENDAR
VERSION:2.0
PRODID:-//Vincennes/Knox County VTB - ECPv5.14.1//NONSGML v1.0//EN
CALSCALE:GREGORIAN
METHOD:PUBLISH
X-WR-CALNAME:Vincennes/Knox County VTB
X-ORIGINAL-URL:https://visitvincennes.org
X-WR-CALDESC:Events for Vincennes/Knox County VTB
BEGIN:VTIMEZONE
TZID:America/Indiana/Knox
BEGIN:DAYLIGHT
TZOFFSETFROM:-0600
TZOFFSETTO:-0500
TZNAME:CDT
DTSTART:20250309T080000
END:DAYLIGHT
BEGIN:STANDARD
TZOFFSETFROM:-0500
TZOFFSETTO:-0600
TZNAME:CST
DTSTART:20251102T070000
END:STANDARD
END:VTIMEZONE
BEGIN:VEVENT
DTSTART;TZID=America/Indiana/Knox:20250228T193000
DTEND;TZID=America/Indiana/Knox:20250228T211500
DTSTAMP:20260420T131415
CREATED:20250213T142705Z
LAST-MODIFIED:20250226T202140Z
UID:14107-1740771000-1740777300@visitvincennes.org
SUMMARY:Uptown
DESCRIPTION:From New York City\, the epicenter of contemporary Pop and Soul\, Uptown is a group of men who combine the smooth stylings of R&B with the fresh hits of today.  The perfect mix of Bruno Mars caliber stage presence with the vocals of Stevie Wonder and Marvin Gaye.  You’ve never seen anything like Uptown!
URL:https://visitvincennes.org/event/uptown/
LOCATION:Red Skelton Performing Arts Center\, 20 Red Skelton Boulevard\, Vincennes\, IN\, 47591\, United States
END:VEVENT
END:VCALENDAR