BEGIN:VCALENDAR
VERSION:2.0
PRODID:-//Vincennes/Knox County VTB - ECPv5.14.1//NONSGML v1.0//EN
CALSCALE:GREGORIAN
METHOD:PUBLISH
X-WR-CALNAME:Vincennes/Knox County VTB
X-ORIGINAL-URL:https://visitvincennes.org
X-WR-CALDESC:Events for Vincennes/Knox County VTB
BEGIN:VTIMEZONE
TZID:America/Indiana/Knox
BEGIN:DAYLIGHT
TZOFFSETFROM:-0600
TZOFFSETTO:-0500
TZNAME:CDT
DTSTART:20210314T080000
END:DAYLIGHT
BEGIN:STANDARD
TZOFFSETFROM:-0500
TZOFFSETTO:-0600
TZNAME:CST
DTSTART:20211107T070000
END:STANDARD
END:VTIMEZONE
BEGIN:VEVENT
DTSTART;TZID=America/Indiana/Knox:20210626T110000
DTEND;TZID=America/Indiana/Knox:20210626T160000
DTSTAMP:20260424T102605
CREATED:20210622T151010Z
LAST-MODIFIED:20210622T151146Z
UID:5264-1624705200-1624723200@visitvincennes.org
SUMMARY:"Three Forts Day"\, Junior Ranger Day - George Rogers Clark NHP
DESCRIPTION:The first Junior Ranger Day of the season\, Three Forts Day will be held on Saturday\, June 26 from 11:00 am – 4:00 pm.  Children are invited to George Rogers Clark National Historical Park to see other how children lived in Vincennes from the early French\, American Revolution\, and War of 1812 periods. Musket demonstrations are included!  For more information\, please go to the link below.
URL:https://visitvincennes.org/event/three-forts-day-junior-ranger-day-george-rogers-clark-nhp/
END:VEVENT
END:VCALENDAR