BEGIN:VCALENDAR
VERSION:2.0
PRODID:-//Vincennes/Knox County VTB - ECPv5.14.1//NONSGML v1.0//EN
CALSCALE:GREGORIAN
METHOD:PUBLISH
X-WR-CALNAME:Vincennes/Knox County VTB
X-ORIGINAL-URL:https://visitvincennes.org
X-WR-CALDESC:Events for Vincennes/Knox County VTB
BEGIN:VTIMEZONE
TZID:America/Indiana/Knox
BEGIN:DAYLIGHT
TZOFFSETFROM:-0600
TZOFFSETTO:-0500
TZNAME:CDT
DTSTART:20210314T080000
END:DAYLIGHT
BEGIN:STANDARD
TZOFFSETFROM:-0500
TZOFFSETTO:-0600
TZNAME:CST
DTSTART:20211107T070000
END:STANDARD
END:VTIMEZONE
BEGIN:VEVENT
DTSTART;TZID=America/Indiana/Knox:20210518T080000
DTEND;TZID=America/Indiana/Knox:20210615T170000
DTSTAMP:20260421T061140
CREATED:20210506T201150Z
LAST-MODIFIED:20210609T154748Z
UID:4870-1621324800-1623776400@visitvincennes.org
SUMMARY:"The Year We Left Home" by Jean Thompson\, Community Read - Red Skelton Museum of American Comedy & Knox County Public Library
DESCRIPTION:The Red Skelton Museum of American Comedy and Knox County Public Library are partnering to host nationally recognized novelist\, Jean Thompson and author of The Year We Left Home.  The Indiana Humanities “One State/One Story Community Read” features Ms. Thompson’s novel and invites Hoosiers to engage with the book as part of a state-wide conversation.  Locally\, a four-segment series has been scheduled for the community read. \n\n\n\nMay 18 – July 18:  “When Red was Richard”\, exhibit of Red’s time in Vincennes as a young boy (Red Skelton Museum) \n\n\n\nMay 18\, 7:00pm:  Author Talk with Sara Eskridge and her book\, Rube Tube:  CBS & Rural Comedy in the 60’s\, refreshments and book signing (Red Skelton Museum gallery) \n\n\n\nMay 22:  Dan Barth’s Medicine Man Show (Knox County Public Library) *Show times are at 11:00am\, 1:00pm and 3:00pm. \n\n\n\nJune 15\, 7:00pm:  Book Discussion of The Year We Left Home (Pantheon 428 Main Street)  *Free copies of the book available at the Museum\, the Library and the Knox County Chamber \n\n\n\nFor more information please contact the Red Skelton Museum (20 Red Skelton Boulevard) at 812.888.4184 or the Knox County Public Library (502 North 7th Street) at 812.886.4380.
URL:https://visitvincennes.org/event/the-year-we-left-home-by-jean-thompson-community-read-red-skelton-museum-of-american-comedy-knox-county-public-library/
END:VEVENT
END:VCALENDAR