BEGIN:VCALENDAR
VERSION:2.0
PRODID:-//Vincennes/Knox County VTB - ECPv5.14.1//NONSGML v1.0//EN
CALSCALE:GREGORIAN
METHOD:PUBLISH
X-WR-CALNAME:Vincennes/Knox County VTB
X-ORIGINAL-URL:https://visitvincennes.org
X-WR-CALDESC:Events for Vincennes/Knox County VTB
BEGIN:VTIMEZONE
TZID:America/Indiana/Knox
BEGIN:DAYLIGHT
TZOFFSETFROM:-0600
TZOFFSETTO:-0500
TZNAME:CDT
DTSTART:20210314T080000
END:DAYLIGHT
BEGIN:STANDARD
TZOFFSETFROM:-0500
TZOFFSETTO:-0600
TZNAME:CST
DTSTART:20211107T070000
END:STANDARD
END:VTIMEZONE
BEGIN:VEVENT
DTSTART;TZID=America/Indiana/Knox:20210820T190000
DTEND;TZID=America/Indiana/Knox:20210822T150000
DTSTAMP:20260419T095747
CREATED:20210527T140236Z
LAST-MODIFIED:20210723T130644Z
UID:4980-1629486000-1629644400@visitvincennes.org
SUMMARY:The Somewhat True Tale of Robin Hood - Comedy
DESCRIPTION:Old Town Players Theatre
URL:https://visitvincennes.org/event/the-somewhat-true-tale-of-robin-hood-comedy-2/
END:VEVENT
END:VCALENDAR