BEGIN:VCALENDAR
VERSION:2.0
PRODID:-//Vincennes/Knox County VTB - ECPv5.14.1//NONSGML v1.0//EN
CALSCALE:GREGORIAN
METHOD:PUBLISH
X-WR-CALNAME:Vincennes/Knox County VTB
X-ORIGINAL-URL:https://visitvincennes.org
X-WR-CALDESC:Events for Vincennes/Knox County VTB
BEGIN:VTIMEZONE
TZID:America/Indiana/Knox
BEGIN:DAYLIGHT
TZOFFSETFROM:-0600
TZOFFSETTO:-0500
TZNAME:CDT
DTSTART:20230312T080000
END:DAYLIGHT
BEGIN:STANDARD
TZOFFSETFROM:-0500
TZOFFSETTO:-0600
TZNAME:CST
DTSTART:20231105T070000
END:STANDARD
END:VTIMEZONE
BEGIN:VEVENT
DTSTART;TZID=America/Indiana/Knox:20231026T190000
DTEND;TZID=America/Indiana/Knox:20231026T210000
DTSTAMP:20260422T223804
CREATED:20230913T164503Z
LAST-MODIFIED:20230929T195610Z
UID:11194-1698346800-1698354000@visitvincennes.org
SUMMARY:The Lightning Thief: The Percy Jackson Musical
DESCRIPTION:The Lightning Thief is a musical with music and lyrics by Rob Rokicki and a book by Joe Tracz\, based on the 2005 novel of the same name by Rick Riordan \n\n\n\nThis is a student production being put on by the Vincennes University Theatre and Music Department.  \n\n\n\nShow times are Thursday\, Oct. 26th\, Friday\, Oct. 27th\, and Saturday\, Oct. 28th at 7:00 pm and on Sunday\, Oct. 29th at 2:00 pm at the Red Skelton Performing Arts Center.  \n\n\n\nFor tickets\, please stop by or call the box office at 812-888-4039.
URL:https://visitvincennes.org/event/the-lightning-theif-the-percy-jackson-musical/2023-10-26/
LOCATION:Red Skelton Performing Arts Center\, 20 Red Skelton Boulevard\, Vincennes\, IN\, 47591\, United States
CATEGORIES:Kid-Friendly Event,Live Music,Miscellaneous,Theatre
END:VEVENT
END:VCALENDAR