BEGIN:VCALENDAR
VERSION:2.0
PRODID:-//Vincennes/Knox County VTB - ECPv5.14.1//NONSGML v1.0//EN
CALSCALE:GREGORIAN
METHOD:PUBLISH
X-WR-CALNAME:Vincennes/Knox County VTB
X-ORIGINAL-URL:https://visitvincennes.org
X-WR-CALDESC:Events for Vincennes/Knox County VTB
BEGIN:VTIMEZONE
TZID:America/Indiana/Knox
BEGIN:DAYLIGHT
TZOFFSETFROM:-0600
TZOFFSETTO:-0500
TZNAME:CDT
DTSTART:20220313T080000
END:DAYLIGHT
BEGIN:STANDARD
TZOFFSETFROM:-0500
TZOFFSETTO:-0600
TZNAME:CST
DTSTART:20221106T070000
END:STANDARD
END:VTIMEZONE
BEGIN:VEVENT
DTSTART;TZID=America/Indiana/Knox:20220409T130000
DTEND;TZID=America/Indiana/Knox:20220409T200000
DTSTAMP:20260422T050354
CREATED:20220308T171104Z
LAST-MODIFIED:20220308T171105Z
UID:6741-1649509200-1649534400@visitvincennes.org
SUMMARY:The Big Balloon Build
DESCRIPTION:Come see the Big Balloon Build at the Highland Woods Community Center! After a week of hard work from balloon artists around the world\, their creations will be open to the public. This will be the only time the balloon build will be available for the public to see.  \n\n\n\nIn lieu of an admission fee\, the builders are requiring those who wish to attend to bring a bag full of canned goods. These donations will help the United Way’s canned food drive for local food pantries.
URL:https://visitvincennes.org/event/the-big-balloon-build/
LOCATION:Highland Woods Community Center\, 1377 South Hart Street\, Vincennes\, 47591\, United States
CATEGORIES:Kid-Friendly Event
END:VEVENT
END:VCALENDAR