BEGIN:VCALENDAR
VERSION:2.0
PRODID:-//Vincennes/Knox County VTB - ECPv5.14.1//NONSGML v1.0//EN
CALSCALE:GREGORIAN
METHOD:PUBLISH
X-WR-CALNAME:Vincennes/Knox County VTB
X-ORIGINAL-URL:https://visitvincennes.org
X-WR-CALDESC:Events for Vincennes/Knox County VTB
BEGIN:VTIMEZONE
TZID:America/Indiana/Knox
BEGIN:DAYLIGHT
TZOFFSETFROM:-0600
TZOFFSETTO:-0500
TZNAME:CDT
DTSTART:20220313T080000
END:DAYLIGHT
BEGIN:STANDARD
TZOFFSETFROM:-0500
TZOFFSETTO:-0600
TZNAME:CST
DTSTART:20221106T070000
END:STANDARD
END:VTIMEZONE
BEGIN:VEVENT
DTSTART;TZID=America/Indiana/Knox:20220603T180000
DTEND;TZID=America/Indiana/Knox:20220603T220000
DTSTAMP:20260420T114324
CREATED:20220328T193536Z
LAST-MODIFIED:20220414T142339Z
UID:6871-1654279200-1654293600@visitvincennes.org
SUMMARY:Spring on Main
DESCRIPTION:Main Street will be open to foot traffic only for the crowd to enjoy a beautiful evening downtown. Those 21 and over can enjoy artisan beer and wine tasting\, food vendors\, music by local artists\, and tours of the historic Pantheon Theatre now repurposed into a co-working and business incubator. The downtown art galleries\, Art Space\, Open Gallery\, and the Northwest Territory Art Guild\, will be open with new exhibits.
URL:https://visitvincennes.org/event/spring-on-main/
LOCATION:Main Street/Downtown Vincennes\, Main Street\, Vincennes\, IN\, 47591\, United States
CATEGORIES:21+ Event,Art,Festivals,Kid-Friendly Event
END:VEVENT
END:VCALENDAR