BEGIN:VCALENDAR
VERSION:2.0
PRODID:-//Vincennes/Knox County VTB - ECPv5.14.1//NONSGML v1.0//EN
CALSCALE:GREGORIAN
METHOD:PUBLISH
X-WR-CALNAME:Vincennes/Knox County VTB
X-ORIGINAL-URL:https://visitvincennes.org
X-WR-CALDESC:Events for Vincennes/Knox County VTB
BEGIN:VTIMEZONE
TZID:America/Indiana/Knox
BEGIN:DAYLIGHT
TZOFFSETFROM:-0600
TZOFFSETTO:-0500
TZNAME:CDT
DTSTART:20260308T080000
END:DAYLIGHT
BEGIN:STANDARD
TZOFFSETFROM:-0500
TZOFFSETTO:-0600
TZNAME:CST
DTSTART:20261101T070000
END:STANDARD
END:VTIMEZONE
BEGIN:VEVENT
DTSTART;TZID=America/Indiana/Knox:20260718T130000
DTEND;TZID=America/Indiana/Knox:20260718T150000
DTSTAMP:20260425T115735
CREATED:20260424T185509Z
LAST-MODIFIED:20260424T185514Z
UID:16305-1784379600-1784386800@visitvincennes.org
SUMMARY:Spray & Play Day
DESCRIPTION:Play\, splash\, repeat!
URL:https://visitvincennes.org/event/spray-play-day-2/
ATTACH;FMTTYPE=image/png:https://visitvincennes.org/wp-content/uploads/2026/04/spray-Play-26.png
END:VEVENT
END:VCALENDAR