BEGIN:VCALENDAR
VERSION:2.0
PRODID:-//Vincennes/Knox County VTB - ECPv5.14.1//NONSGML v1.0//EN
CALSCALE:GREGORIAN
METHOD:PUBLISH
X-WR-CALNAME:Vincennes/Knox County VTB
X-ORIGINAL-URL:https://visitvincennes.org
X-WR-CALDESC:Events for Vincennes/Knox County VTB
BEGIN:VTIMEZONE
TZID:America/Indiana/Knox
BEGIN:DAYLIGHT
TZOFFSETFROM:-0600
TZOFFSETTO:-0500
TZNAME:CDT
DTSTART:20210314T080000
END:DAYLIGHT
BEGIN:STANDARD
TZOFFSETFROM:-0500
TZOFFSETTO:-0600
TZNAME:CST
DTSTART:20211107T070000
END:STANDARD
END:VTIMEZONE
BEGIN:VEVENT
DTSTART;TZID=America/Indiana/Knox:20210306T080000
DTEND;TZID=America/Indiana/Knox:20210329T170000
DTSTAMP:20260423T053500
CREATED:20210226T162737Z
LAST-MODIFIED:20210310T140726Z
UID:4329-1615017600-1617037200@visitvincennes.org
SUMMARY:"Securing the Vote:  Women's Suffrage in Indiana" 100th Anniversary of Women's Right to Vote - Knox County Public Library
DESCRIPTION:In recognition of the 100th Anniversary of Women’s Right to Vote the Knox County Public Library is hosting a special exhibit\, Securing the Vote:  Women’s Suffrage in Indiana is on exhibit at the Knox County Public Library.  This exhibit would not have been made available to the public without the efforts of the League of Women Voters of Knox County or the Vincennes State Historic Sites\, both exhibit sponsors.  The Knox County Public Library\, as a partnering sponsor agreed to host the exhibit once it was secured to display in Vincennes.  Securing the Vote: Women’s Suffrage in Indiana will be available to view in the Library’s sunroom from Saturday\, March 6 through Monday\, March 29 during regular library hours.  In addition\,  display cases throughout the library will highlight significant women in our history.   \n\n\n\nThe League of Women Voters of Knox County\, also celebrating the 100th Anniversary of the founding of the organization\, is providing an opportunity to view the docu-drama film\, Iron-Jawed Angels.  The film covers the national effort to achieve the women’s vote on a continuous loop throughout the month.  Also on display\, A Century of Women’s Suffrage – 1920 – 2020:  The March Toward Leadership covers many articles related to current and historical efforts by women. Twenty-five issues will be available to visitors\, while they last. \n\n\n\n*This exhibit is on loan from the Indiana Historical Society and is sponsored by the League of Women Voters of Knox County along with the Vincennes State Historic Sites and the Knox County Public Library. \n\n\n\nCome celebrate Women’s History Month during March at the Knox County Public Library!
URL:https://visitvincennes.org/event/security-the-vote-womens-suffrage-in-indiana-100th-anniversary-of-womens-right-to-vote-knox-co-public-library/
END:VEVENT
END:VCALENDAR