BEGIN:VCALENDAR
VERSION:2.0
PRODID:-//Vincennes/Knox County VTB - ECPv5.14.1//NONSGML v1.0//EN
CALSCALE:GREGORIAN
METHOD:PUBLISH
X-WR-CALNAME:Vincennes/Knox County VTB
X-ORIGINAL-URL:https://visitvincennes.org
X-WR-CALDESC:Events for Vincennes/Knox County VTB
BEGIN:VTIMEZONE
TZID:America/Indiana/Knox
BEGIN:DAYLIGHT
TZOFFSETFROM:-0600
TZOFFSETTO:-0500
TZNAME:CDT
DTSTART:20220313T080000
END:DAYLIGHT
BEGIN:STANDARD
TZOFFSETFROM:-0500
TZOFFSETTO:-0600
TZNAME:CST
DTSTART:20221106T070000
END:STANDARD
END:VTIMEZONE
BEGIN:VEVENT
DTSTART;TZID=America/Indiana/Knox:20220710T140000
DTEND;TZID=America/Indiana/Knox:20220710T160000
DTSTAMP:20260420T102958
CREATED:20220120T204656Z
LAST-MODIFIED:20220707T143614Z
UID:6467-1657461600-1657468800@visitvincennes.org
SUMMARY:Second Sunday Nature Walk
DESCRIPTION:Join local Master Naturalist Terri Talarek King on a casual walk at Ouabache Trails Park (just north of Vincennes\, Indiana\, at the end of Lower Fort Knox Road) on Sunday\, July 10. This walk is planned for Trail 8 (River Fishing Trail)\, beginning at 2:00 pm Eastern. Trail 8 begins just beyond the entrance to the park’s lower loop\, to the left. \n\n\n\nExplore and discover the ecology of the Wabash River floodplain and riverside\, and look for animal tracks. \n\n\n\nBe prepared for wet and muddy conditions. If Trail 8 is not passable\, the walk will begin on Trail 4 across the road and will explore areas around the large creek. \n\n\n\nThis walk is free\, with no registration required. All are welcome and families are encouraged. Emphasis on all walks is on observation\, exploration\, and discovery. Walks proceed rain\, shine\, or snow. Be prepared for wet areasand some steep slopes. \n\n\n\nFor questions or more information\, email leapingfrog55@yahoo.com or leave a voice message (no text) for a call back at 812-881-8987. Also\, check the Facebook page called The Nature of Knox County\, Indiana\, as well as other local media. \n\n\n\nTo view a map of Ouabache Trails Park\, see: http://www.knoxcountyparks.com .
URL:https://visitvincennes.org/event/second-sunday-nature-walk-11-2022-03-13-2022-07-10/
LOCATION:Ouabache Trails Park\, 3500 North Lower Fort Knox Road\, Vincennes\, IN\, 47591\, United States
CATEGORIES:Kid-Friendly Event
END:VEVENT
END:VCALENDAR