BEGIN:VCALENDAR
VERSION:2.0
PRODID:-//Vincennes/Knox County VTB - ECPv5.14.1//NONSGML v1.0//EN
CALSCALE:GREGORIAN
METHOD:PUBLISH
X-WR-CALNAME:Vincennes/Knox County VTB
X-ORIGINAL-URL:https://visitvincennes.org
X-WR-CALDESC:Events for Vincennes/Knox County VTB
BEGIN:VTIMEZONE
TZID:America/Indiana/Knox
BEGIN:DAYLIGHT
TZOFFSETFROM:-0600
TZOFFSETTO:-0500
TZNAME:CDT
DTSTART:20240310T080000
END:DAYLIGHT
BEGIN:STANDARD
TZOFFSETFROM:-0500
TZOFFSETTO:-0600
TZNAME:CST
DTSTART:20241103T070000
END:STANDARD
END:VTIMEZONE
BEGIN:VEVENT
DTSTART;TZID=America/Indiana/Knox:20240824T100000
DTEND;TZID=America/Indiana/Knox:20240824T120000
DTSTAMP:20260420T175233
CREATED:20240807T195901Z
LAST-MODIFIED:20240807T195907Z
UID:13587-1724493600-1724500800@visitvincennes.org
SUMMARY:Salsa Party
DESCRIPTION:Come to a Salsa Party! Enter a Salsa-Making Contest! \n\n\n\nThe Grow City Teaching Garden and the Knox County Seed Library are offering this event onSaturday\, August 24\, from 10:00 am to noon Eastern. The event will take place on the ground of theMcGrady-Brockman House (614 N. 7th St.\, Vincennes\, IN) and in the Grow City Teaching Garden inthe back yard. \n\n\n\nCome to taste locally made salsas and vote for your favorites. Enjoy music\, garden tours\, photo ops inthe garden\, and tomato tasting. Children can make colorful gourd shakers. \n\n\n\nRegistration forms for those entering the Salsa-Making Contest are available\, with guidelines\, at theKnox County Seed Library\, just outside the Sun Room on the main floor of the Knox County PublicLibrary (502 N. 7th St.\, Vincennes)\, and can place the form in the box provided. Registration forms aredue by August 19. The ten-dollar entry fee is payable at the event. \n\n\n\n\n\n\n\nCome for summer fun and salsa!
URL:https://visitvincennes.org/event/salsa-party/
CATEGORIES:Food & Drink
END:VEVENT
END:VCALENDAR