BEGIN:VCALENDAR
VERSION:2.0
PRODID:-//Vincennes/Knox County VTB - ECPv5.14.1//NONSGML v1.0//EN
CALSCALE:GREGORIAN
METHOD:PUBLISH
X-WR-CALNAME:Vincennes/Knox County VTB
X-ORIGINAL-URL:https://visitvincennes.org
X-WR-CALDESC:Events for Vincennes/Knox County VTB
BEGIN:VTIMEZONE
TZID:America/Indiana/Knox
BEGIN:DAYLIGHT
TZOFFSETFROM:-0600
TZOFFSETTO:-0500
TZNAME:CDT
DTSTART:20230312T080000
END:DAYLIGHT
BEGIN:STANDARD
TZOFFSETFROM:-0500
TZOFFSETTO:-0600
TZNAME:CST
DTSTART:20231105T070000
END:STANDARD
END:VTIMEZONE
BEGIN:VEVENT
DTSTART;TZID=America/Indiana/Knox:20230221T190000
DTEND;TZID=America/Indiana/Knox:20230221T200000
DTSTAMP:20260425T075142
CREATED:20230213T173759Z
LAST-MODIFIED:20230213T173800Z
UID:9369-1677006000-1677009600@visitvincennes.org
SUMMARY:Ron Jones Jazz Ensemble
DESCRIPTION:The Office of Global Diversity hosts Ron Jones and a jazz ensemble for a night of history and music.
URL:https://visitvincennes.org/event/ron-jones-jazz-ensemble/
LOCATION:Jefferson Student Union\, 1401 Chestnut St\, Vincennes\, Indiana\, 47591\, United States
END:VEVENT
END:VCALENDAR