BEGIN:VCALENDAR
VERSION:2.0
PRODID:-//Vincennes/Knox County VTB - ECPv5.14.1//NONSGML v1.0//EN
CALSCALE:GREGORIAN
METHOD:PUBLISH
X-WR-CALNAME:Vincennes/Knox County VTB
X-ORIGINAL-URL:https://visitvincennes.org
X-WR-CALDESC:Events for Vincennes/Knox County VTB
BEGIN:VTIMEZONE
TZID:America/Indiana/Knox
BEGIN:DAYLIGHT
TZOFFSETFROM:-0600
TZOFFSETTO:-0500
TZNAME:CDT
DTSTART:20260308T080000
END:DAYLIGHT
BEGIN:STANDARD
TZOFFSETFROM:-0500
TZOFFSETTO:-0600
TZNAME:CST
DTSTART:20261101T070000
END:STANDARD
END:VTIMEZONE
BEGIN:VEVENT
DTSTART;TZID=America/Indiana/Knox:20260509T140000
DTEND;TZID=America/Indiana/Knox:20260509T140000
DTSTAMP:20260424T173847
CREATED:20260424T181103Z
LAST-MODIFIED:20260424T181108Z
UID:16284-1778335200-1778335200@visitvincennes.org
SUMMARY:Revolutionary War & the French Connection
DESCRIPTION:
URL:https://visitvincennes.org/event/revolutionary-war/
LOCATION:Knox County Public Library\, 502 North 7th Street\, Vincennes\, IN\, 47591\, United States
ATTACH;FMTTYPE=image/png:https://visitvincennes.org/wp-content/uploads/2026/04/Revolutionary-War-the-French-Connection-Flyer.png
END:VEVENT
END:VCALENDAR