BEGIN:VCALENDAR
VERSION:2.0
PRODID:-//Vincennes/Knox County VTB - ECPv5.14.1//NONSGML v1.0//EN
CALSCALE:GREGORIAN
METHOD:PUBLISH
X-WR-CALNAME:Vincennes/Knox County VTB
X-ORIGINAL-URL:https://visitvincennes.org
X-WR-CALDESC:Events for Vincennes/Knox County VTB
BEGIN:VTIMEZONE
TZID:America/Indiana/Knox
BEGIN:DAYLIGHT
TZOFFSETFROM:-0600
TZOFFSETTO:-0500
TZNAME:CDT
DTSTART:20260308T080000
END:DAYLIGHT
BEGIN:STANDARD
TZOFFSETFROM:-0500
TZOFFSETTO:-0600
TZNAME:CST
DTSTART:20261101T070000
END:STANDARD
END:VTIMEZONE
BEGIN:VEVENT
DTSTART;TZID=America/Indiana/Knox:20260502T100000
DTEND;TZID=America/Indiana/Knox:20260502T120000
DTSTAMP:20260419T145556
CREATED:20260417T160349Z
LAST-MODIFIED:20260417T161149Z
UID:16123-1777716000-1777723200@visitvincennes.org
SUMMARY:Paint & Plant
DESCRIPTION:Get ready to dig in and get creative!  Join us for a hands-on planting adventure with terra cotta pots\, colorful paints\, rich soil\, and your choice of three pollinator-friendly seed options. Come ready to paint\, plant\, and bring a little buzz-worthy beauty to life!  \n\n\n\nCOST: Individual $6 – 1 terra cotta pot\, paint\, seeds. Individual full package $9 – 1 terra cotta pot\, paint\, seeds\, juice box\, 1 popcorn\, 1 tattoo. Family of 4 $36 – 4 terra cotta pots\, paint\, seeds\, 4 juice boxes\, 4 popcorns\, 4 tattoos.
URL:https://visitvincennes.org/event/paint-plant-family/
LOCATION:Gregg Park\, 2204 Washington Avenue\, Vincennes\, IN\, 47591\, United States
END:VEVENT
END:VCALENDAR