BEGIN:VCALENDAR
VERSION:2.0
PRODID:-//Vincennes/Knox County VTB - ECPv5.14.1//NONSGML v1.0//EN
CALSCALE:GREGORIAN
METHOD:PUBLISH
X-WR-CALNAME:Vincennes/Knox County VTB
X-ORIGINAL-URL:https://visitvincennes.org
X-WR-CALDESC:Events for Vincennes/Knox County VTB
BEGIN:VTIMEZONE
TZID:America/Indiana/Knox
BEGIN:DAYLIGHT
TZOFFSETFROM:-0600
TZOFFSETTO:-0500
TZNAME:CDT
DTSTART:20240310T080000
END:DAYLIGHT
BEGIN:STANDARD
TZOFFSETFROM:-0500
TZOFFSETTO:-0600
TZNAME:CST
DTSTART:20241103T070000
END:STANDARD
END:VTIMEZONE
BEGIN:VEVENT
DTSTART;TZID=America/Indiana/Knox:20240531T200000
DTEND;TZID=America/Indiana/Knox:20240531T230000
DTSTAMP:20260420T202908
CREATED:20240528T132809Z
LAST-MODIFIED:20240528T132811Z
UID:12974-1717185600-1717196400@visitvincennes.org
SUMMARY:Live Music at OC - Guy Ash
DESCRIPTION:LIVE MUSIC ft Guy Ash at Old Chicago in Vincennes Friday\, May 31st starting at 8pm! Start the weekend off right with a night of live music & your fav drinks!  \n\n\n\n Friday\, May 31st\, 2024 8:00 PM – 11:00 PM Old Chicago\, Downtown Vincennes \n\n\n\nAs always\, our live music is free to the public & can be enjoyed inside or on our large outdoor patio. Enjoy our delicious food\, refreshing drinks\, and the warm atmosphere of Old Chicago while soaking in the incredible tunes from Guy Ash!
URL:https://visitvincennes.org/event/live-music-at-oc-guy-ash/
LOCATION:Old Chicago\, 529 Main St\, Vincennes\, Indiana\, 47591\, United States
END:VEVENT
END:VCALENDAR