BEGIN:VCALENDAR
VERSION:2.0
PRODID:-//Vincennes/Knox County VTB - ECPv5.14.1//NONSGML v1.0//EN
CALSCALE:GREGORIAN
METHOD:PUBLISH
X-WR-CALNAME:Vincennes/Knox County VTB
X-ORIGINAL-URL:https://visitvincennes.org
X-WR-CALDESC:Events for Vincennes/Knox County VTB
BEGIN:VTIMEZONE
TZID:America/Indiana/Knox
BEGIN:DAYLIGHT
TZOFFSETFROM:-0600
TZOFFSETTO:-0500
TZNAME:CDT
DTSTART:20220313T080000
END:DAYLIGHT
BEGIN:STANDARD
TZOFFSETFROM:-0500
TZOFFSETTO:-0600
TZNAME:CST
DTSTART:20221106T070000
END:STANDARD
END:VTIMEZONE
BEGIN:VEVENT
DTSTART;TZID=America/Indiana/Knox:20220919T153000
DTEND;TZID=America/Indiana/Knox:20220919T163000
DTSTAMP:20260421T031855
CREATED:20220919T130902Z
LAST-MODIFIED:20220919T130928Z
UID:7985-1663601400-1663605000@visitvincennes.org
SUMMARY:Lincoln High School Homecoming Parade
DESCRIPTION:The parade starts at 3:45 pm.  \n\n\n\nThe game starts at 7 pm.
URL:https://visitvincennes.org/event/lincoln-high-school-homecoming-parade/
CATEGORIES:Kid-Friendly Event,Miscellaneous
END:VEVENT
END:VCALENDAR