BEGIN:VCALENDAR
VERSION:2.0
PRODID:-//Vincennes/Knox County VTB - ECPv5.14.1//NONSGML v1.0//EN
CALSCALE:GREGORIAN
METHOD:PUBLISH
X-WR-CALNAME:Vincennes/Knox County VTB
X-ORIGINAL-URL:https://visitvincennes.org
X-WR-CALDESC:Events for Vincennes/Knox County VTB
BEGIN:VTIMEZONE
TZID:America/Indiana/Knox
BEGIN:DAYLIGHT
TZOFFSETFROM:-0600
TZOFFSETTO:-0500
TZNAME:CDT
DTSTART:20210314T080000
END:DAYLIGHT
BEGIN:STANDARD
TZOFFSETFROM:-0500
TZOFFSETTO:-0600
TZNAME:CST
DTSTART:20211107T070000
END:STANDARD
END:VTIMEZONE
BEGIN:VEVENT
DTSTART;TZID=America/Indiana/Knox:20210806T170000
DTEND;TZID=America/Indiana/Knox:20210806T220000
DTSTAMP:20260419T100216
CREATED:20210804T180634Z
LAST-MODIFIED:20210804T180701Z
UID:5539-1628269200-1628287200@visitvincennes.org
SUMMARY:Knox County Watermelon Festival - Patrick Henry Square
DESCRIPTION:5:00 pm – Vendor Booths Open \n\n\n\n6:00 – 10:00 pm – First City Music Fest Concert \n\n\n\n6:00 – 10:00 pm – Outdoor Beer Garden hosted by the Vincennes Brewing Company \n\n\n\n7:00 pm – Watermelon Eating Contest
URL:https://visitvincennes.org/event/knox-county-watermelon-festival-patrick-henry-square-2/
LOCATION:Patrick Henry Square\, Market Street\, Vincennes\, Indiana\, 47591\, United States
ORGANIZER;CN="Knox%20County%20Chamber%20of%20Commerce":MAILTO:info@knoxcountychamber.com
END:VEVENT
END:VCALENDAR