BEGIN:VCALENDAR
VERSION:2.0
PRODID:-//Vincennes/Knox County VTB - ECPv5.14.1//NONSGML v1.0//EN
CALSCALE:GREGORIAN
METHOD:PUBLISH
X-WR-CALNAME:Vincennes/Knox County VTB
X-ORIGINAL-URL:https://visitvincennes.org
X-WR-CALDESC:Events for Vincennes/Knox County VTB
BEGIN:VTIMEZONE
TZID:America/Indiana/Knox
BEGIN:DAYLIGHT
TZOFFSETFROM:-0600
TZOFFSETTO:-0500
TZNAME:CDT
DTSTART:20230312T080000
END:DAYLIGHT
BEGIN:STANDARD
TZOFFSETFROM:-0500
TZOFFSETTO:-0600
TZNAME:CST
DTSTART:20231105T070000
END:STANDARD
END:VTIMEZONE
BEGIN:VEVENT
DTSTART;TZID=America/Indiana/Knox:20230617T100000
DTEND;TZID=America/Indiana/Knox:20230617T170000
DTSTAMP:20260420T123109
CREATED:20230515T132306Z
LAST-MODIFIED:20230515T132308Z
UID:10548-1686996000-1687021200@visitvincennes.org
SUMMARY:Juneteenth Free Day
DESCRIPTION:Walk through Indiana’s oldest city for free on Saturday\, June 17\, in honor of Juneteenth. Tour different buildings including the original Territory Capitol building\, which was built in 1805\, the Jefferson Academy – the first school of higher learning in the state – the Elihu Stout Print Shop\, Fort Knox II\, the Old French House and more. Timed\, indoor tours of the buildings are available at 10 a.m. and 2 p.m. Timed\, outdoor tours of Fort Knox are available at 11:15 a.m. starting at the visitor center. Call the site at 812.882.7422 to reserve your free tour. Walk-ups are subject to availability.
URL:https://visitvincennes.org/event/juneteenth-free-day/
LOCATION:Vincennes State Historic Sites\, 1 W. Harrison Street\, Vincennes\, Indiana\, 47591\, United States
CATEGORIES:Holiday
ATTACH;FMTTYPE=image/jpeg:https://visitvincennes.org/wp-content/uploads/2023/05/state-historic-sites.jpg
END:VEVENT
END:VCALENDAR