BEGIN:VCALENDAR
VERSION:2.0
PRODID:-//Vincennes/Knox County VTB - ECPv5.14.1//NONSGML v1.0//EN
CALSCALE:GREGORIAN
METHOD:PUBLISH
X-WR-CALNAME:Vincennes/Knox County VTB
X-ORIGINAL-URL:https://visitvincennes.org
X-WR-CALDESC:Events for Vincennes/Knox County VTB
BEGIN:VTIMEZONE
TZID:America/Indiana/Knox
BEGIN:DAYLIGHT
TZOFFSETFROM:-0600
TZOFFSETTO:-0500
TZNAME:CDT
DTSTART:20230312T080000
END:DAYLIGHT
BEGIN:STANDARD
TZOFFSETFROM:-0500
TZOFFSETTO:-0600
TZNAME:CST
DTSTART:20231105T070000
END:STANDARD
END:VTIMEZONE
BEGIN:VEVENT
DTSTART;TZID=America/Indiana/Knox:20230223T120000
DTEND;TZID=America/Indiana/Knox:20230223T160000
DTSTAMP:20260425T061943
CREATED:20230213T180218Z
LAST-MODIFIED:20230213T180301Z
UID:9382-1677153600-1677168000@visitvincennes.org
SUMMARY:Meet the Entrepreneur in Residence
DESCRIPTION:Entrepreneur in Residence Dr. Jason Salstrom of Purdue Foundry will host free office hours the fourth Thursday every month. NO COST & OPEN TO THE PUBLIC. APPOINTMENT REQUIRED.
URL:https://visitvincennes.org/event/jason-salstrom/2023-02-23/
LOCATION:The Pantheon. A Business and Innovation Theatre\, 428 Main Street\, Vincennes\, Indiana\, 47591
ATTACH;FMTTYPE=image/png:https://visitvincennes.org/wp-content/uploads/2023/02/panth-entreprenuer.png
END:VEVENT
END:VCALENDAR