BEGIN:VCALENDAR
VERSION:2.0
PRODID:-//Vincennes/Knox County VTB - ECPv5.14.1//NONSGML v1.0//EN
CALSCALE:GREGORIAN
METHOD:PUBLISH
X-WR-CALNAME:Vincennes/Knox County VTB
X-ORIGINAL-URL:https://visitvincennes.org
X-WR-CALDESC:Events for Vincennes/Knox County VTB
BEGIN:VTIMEZONE
TZID:America/Indiana/Knox
BEGIN:DAYLIGHT
TZOFFSETFROM:-0600
TZOFFSETTO:-0500
TZNAME:CDT
DTSTART:20260308T080000
END:DAYLIGHT
BEGIN:STANDARD
TZOFFSETFROM:-0500
TZOFFSETTO:-0600
TZNAME:CST
DTSTART:20261101T070000
END:STANDARD
END:VTIMEZONE
BEGIN:VEVENT
DTSTART;TZID=America/Indiana/Knox:20260501T180000
DTEND;TZID=America/Indiana/Knox:20260501T190000
DTSTAMP:20260424T032418
CREATED:20260421T153933Z
LAST-MODIFIED:20260421T153938Z
UID:16254-1777658400-1777662000@visitvincennes.org
SUMMARY:History Tour - French History
DESCRIPTION:Downtown\, Theme – French History
URL:https://visitvincennes.org/event/history-tour-french-history/
END:VEVENT
END:VCALENDAR