BEGIN:VCALENDAR
VERSION:2.0
PRODID:-//Vincennes/Knox County VTB - ECPv5.14.1//NONSGML v1.0//EN
CALSCALE:GREGORIAN
METHOD:PUBLISH
X-WR-CALNAME:Vincennes/Knox County VTB
X-ORIGINAL-URL:https://visitvincennes.org
X-WR-CALDESC:Events for Vincennes/Knox County VTB
BEGIN:VTIMEZONE
TZID:America/Indiana/Knox
BEGIN:DAYLIGHT
TZOFFSETFROM:-0600
TZOFFSETTO:-0500
TZNAME:CDT
DTSTART:20230312T080000
END:DAYLIGHT
BEGIN:STANDARD
TZOFFSETFROM:-0500
TZOFFSETTO:-0600
TZNAME:CST
DTSTART:20231105T070000
END:STANDARD
END:VTIMEZONE
BEGIN:VEVENT
DTSTART;TZID=America/Indiana/Knox:20230421T170000
DTEND;TZID=America/Indiana/Knox:20230421T200000
DTSTAMP:20260420T115935
CREATED:20230208T165641Z
LAST-MODIFIED:20230208T165642Z
UID:9293-1682096400-1682107200@visitvincennes.org
SUMMARY:Historical Half Marathon Spaghetti Dinner
DESCRIPTION:Carb up before the Vincennes Historical Half Marathon!  \n\n\n\n Join the Rotary Young Leaders Club of Vincennes for their spaghetti dinner fundraiser on April 21st! ALL proceeds go to Vincennes Buddy Ball!  \n\n\n\n… \n\n\n\nDetails  \n\n\n\nDate: April 21st\, 2023 \n\n\n\nTime: 5 – 8 PM \n\n\n\nLocation: Old Cathedral Parish Center \n\n\n\nGuest Speaker: Darrel Bobe at 6 PM \n\n\n\nPricing: $5 for kids. $8 for runners. $10 for adults.  \n\n\n\n… \n\n\n\nThis event is open to the entire community\, not just runners! Pick up your bibs and swag bags across the street\, and enjoy dinner afterward!
URL:https://visitvincennes.org/event/historical-half-marathon-spaghetti-dinner/
LOCATION:Old Cathedral Parish Center\, 100 South 3rd Street\, Vincennes\, Indiana\, 47591\, United States
END:VEVENT
END:VCALENDAR