BEGIN:VCALENDAR
VERSION:2.0
PRODID:-//Vincennes/Knox County VTB - ECPv5.14.1//NONSGML v1.0//EN
CALSCALE:GREGORIAN
METHOD:PUBLISH
X-WR-CALNAME:Vincennes/Knox County VTB
X-ORIGINAL-URL:https://visitvincennes.org
X-WR-CALDESC:Events for Vincennes/Knox County VTB
BEGIN:VTIMEZONE
TZID:America/Indiana/Knox
BEGIN:DAYLIGHT
TZOFFSETFROM:-0600
TZOFFSETTO:-0500
TZNAME:CDT
DTSTART:20210314T080000
END:DAYLIGHT
BEGIN:STANDARD
TZOFFSETFROM:-0500
TZOFFSETTO:-0600
TZNAME:CST
DTSTART:20211107T070000
END:STANDARD
END:VTIMEZONE
BEGIN:VEVENT
DTSTART;TZID=America/Indiana/Knox:20210813T180000
DTEND;TZID=America/Indiana/Knox:20210814T000000
DTSTAMP:20260419T095724
CREATED:20210505T143440Z
LAST-MODIFIED:20210804T152611Z
UID:4828-1628877600-1628899200@visitvincennes.org
SUMMARY:Germanfest - Highland Woods
DESCRIPTION:The Germanfest is back on the calendar for 2021!  Enjoy this two-evening event with an authentic German style meal\, German folk music and dancing and good fellowship.  \n\n\n\n*Proceeds from this event help the Christian Educational Foundation provide support to the Vincennes Catholic Schools.
URL:https://visitvincennes.org/event/germanfest-highland-woods/2021-08-13/
END:VEVENT
END:VCALENDAR