BEGIN:VCALENDAR
VERSION:2.0
PRODID:-//Vincennes/Knox County VTB - ECPv5.14.1//NONSGML v1.0//EN
CALSCALE:GREGORIAN
METHOD:PUBLISH
X-WR-CALNAME:Vincennes/Knox County VTB
X-ORIGINAL-URL:https://visitvincennes.org
X-WR-CALDESC:Events for Vincennes/Knox County VTB
BEGIN:VTIMEZONE
TZID:America/Indiana/Knox
BEGIN:DAYLIGHT
TZOFFSETFROM:-0600
TZOFFSETTO:-0500
TZNAME:CDT
DTSTART:20250309T080000
END:DAYLIGHT
BEGIN:STANDARD
TZOFFSETFROM:-0500
TZOFFSETTO:-0600
TZNAME:CST
DTSTART:20251102T070000
END:STANDARD
END:VTIMEZONE
BEGIN:VEVENT
DTSTART;TZID=America/Indiana/Knox:20250208T100000
DTEND;TZID=America/Indiana/Knox:20250208T150000
DTSTAMP:20260422T032326
CREATED:20250129T140039Z
LAST-MODIFIED:20250129T140049Z
UID:14014-1739008800-1739026800@visitvincennes.org
SUMMARY:Seed Symposium
DESCRIPTION:The Knox County Seed Library will be offering a Seed Saving Symposium on Saturday\, February 8\, inthe Fortnightly Building (421 N. 6th St.\, Vincennes.) Learn how to grow and save seeds and preserveheirloom varieties\, and become a member of the KCSL. Attendees will also learn about the One Seed\,One Community Project and how they can participate.This free event will be from 10:00 am to 3:00 pm EST\, with doors opening at 9:00 am. Those wantingto attend must register by January 24 via email at: kcplseedlibrary@gmail.com . A light breakfast willbe provided. Attendees are asked to bring their own lunch.For more information about KCSL\, visit the Facebook page “Knox County Seed Library (Indiana)”\,and visit the KCSL\, located within the Knox County Public Library main building (502 N. 7th St.\,Vincennes)\, near the Sun Room.
URL:https://visitvincennes.org/event/gardeners-delight/
END:VEVENT
END:VCALENDAR