BEGIN:VCALENDAR
VERSION:2.0
PRODID:-//Vincennes/Knox County VTB - ECPv5.14.1//NONSGML v1.0//EN
CALSCALE:GREGORIAN
METHOD:PUBLISH
X-WR-CALNAME:Vincennes/Knox County VTB
X-ORIGINAL-URL:https://visitvincennes.org
X-WR-CALDESC:Events for Vincennes/Knox County VTB
BEGIN:VTIMEZONE
TZID:America/Indiana/Knox
BEGIN:DAYLIGHT
TZOFFSETFROM:-0600
TZOFFSETTO:-0500
TZNAME:CDT
DTSTART:20210314T080000
END:DAYLIGHT
BEGIN:STANDARD
TZOFFSETFROM:-0500
TZOFFSETTO:-0600
TZNAME:CST
DTSTART:20211107T070000
END:STANDARD
END:VTIMEZONE
BEGIN:VEVENT
DTSTART;TZID=America/Indiana/Knox:20211025T170000
DTEND;TZID=America/Indiana/Knox:20211025T200000
DTSTAMP:20260419T161539
CREATED:20211015T162033Z
LAST-MODIFIED:20211015T162035Z
UID:6060-1635181200-1635192000@visitvincennes.org
SUMMARY:Food Trucks on the Wabash Halloween Bash
DESCRIPTION:For a night filled with fun and food\, be sure to attend the Food Trucks on the Wabash’s Halloween Bash! There will be costume contests\, live music from Jared & Luke as well as Just 1 More\, and all of the food trucks you know and love!  \n\n\n\nCostume contest registration will take place from 5 PM – 6 PM. The rain date is October 26th\, from 5 PM – 8 PM.   \n\n\n\nThe following food trucks will be present: \n\n\n\n\n\nThainamiteFoster’s FrostersGrub On The GoWurst Hotdog CartSpark’s LiquorThe Twisted ToasterMacho Taco\n\n\n\n\n\nBones Barbeque Soul Food on WheelsKolb’s Culinary CreationsZip & SipI Hart Ice Cream\n\n\n\n\n\nFor more information\, visit the Food Trucks on the Wabash Facebook page by clicking HERE.
URL:https://visitvincennes.org/event/food-trucks-on-the-wabash-halloween-bash/
LOCATION:Riverwalk\, Downtown Vincennes\, 1st and Main Streets\, Vincennes\, IN\, 47591\, United States
CATEGORIES:Food & Drink,Holiday,Kid-Friendly Event,Live Music
ATTACH;FMTTYPE=image/jpeg:https://visitvincennes.org/wp-content/uploads/2021/10/Food-Trucks-on-the-Wabash-Halloween-Event.jpg
END:VEVENT
END:VCALENDAR