BEGIN:VCALENDAR
VERSION:2.0
PRODID:-//Vincennes/Knox County VTB - ECPv5.14.1//NONSGML v1.0//EN
CALSCALE:GREGORIAN
METHOD:PUBLISH
X-WR-CALNAME:Vincennes/Knox County VTB
X-ORIGINAL-URL:https://visitvincennes.org
X-WR-CALDESC:Events for Vincennes/Knox County VTB
BEGIN:VTIMEZONE
TZID:America/Indiana/Knox
BEGIN:DAYLIGHT
TZOFFSETFROM:-0600
TZOFFSETTO:-0500
TZNAME:CDT
DTSTART:20210314T080000
END:DAYLIGHT
BEGIN:STANDARD
TZOFFSETFROM:-0500
TZOFFSETTO:-0600
TZNAME:CST
DTSTART:20211107T070000
END:STANDARD
END:VTIMEZONE
BEGIN:VEVENT
DTSTART;TZID=America/Indiana/Knox:20210614T170000
DTEND;TZID=America/Indiana/Knox:20210614T200000
DTSTAMP:20260424T141030
CREATED:20210609T163206Z
LAST-MODIFIED:20210616T154824Z
UID:5030-1623690000-1623700800@visitvincennes.org
SUMMARY:Vincennes Food Trucks on the Wabash - Riverwalk\, Downtown Vincennes
DESCRIPTION:Monday evening dinner is solved!  The Vincennes Food Trucks on the Wabash are back on the Riverwalk and delicious snacks are meals are ready to pick up!  Check in on their Facebook page to see what food vendors are featured for the week.
URL:https://visitvincennes.org/event/food-trucks-on-the-wabash-3/2021-06-14/
LOCATION:Riverwalk\, 16 North 1st Street\, Vincennes\, Indiana\, 47591\, United States
END:VEVENT
END:VCALENDAR