BEGIN:VCALENDAR
VERSION:2.0
PRODID:-//Vincennes/Knox County VTB - ECPv5.14.1//NONSGML v1.0//EN
CALSCALE:GREGORIAN
METHOD:PUBLISH
X-WR-CALNAME:Vincennes/Knox County VTB
X-ORIGINAL-URL:https://visitvincennes.org
X-WR-CALDESC:Events for Vincennes/Knox County VTB
BEGIN:VTIMEZONE
TZID:America/Indiana/Knox
BEGIN:DAYLIGHT
TZOFFSETFROM:-0600
TZOFFSETTO:-0500
TZNAME:CDT
DTSTART:20240310T080000
END:DAYLIGHT
BEGIN:STANDARD
TZOFFSETFROM:-0500
TZOFFSETTO:-0600
TZNAME:CST
DTSTART:20241103T070000
END:STANDARD
END:VTIMEZONE
BEGIN:VEVENT
DTSTART;TZID=America/Indiana/Knox:20240503T170000
DTEND;TZID=America/Indiana/Knox:20240503T200000
DTSTAMP:20260420T090029
CREATED:20240429T142100Z
LAST-MODIFIED:20240429T142102Z
UID:12763-1714755600-1714766400@visitvincennes.org
SUMMARY:First Friday Art Walk - Think Art for Mother’s Day!
DESCRIPTION:Join friends at Art Space Vincennes\, Open Gallery and Northwest Territory Art Guild Gallery for the First Friday Art Walk\, May 3\, 5 – 8 pm. \n\n\n\nArt Space Vincennes LLC\, 521 Main will continue Cosmic Trace\, an exhibition of working drawings for Savannah\, Georgia-based artist Henry Dean’s nation-wide eclipse installation project\, Now and Then.  Dean’s first of six installations for this project was sited at Vincennes’ Fox Ridge Nature Park last year. It can be viewed at the park\, located at 1364 N. Hillcrest Road\, during open hours 8 – 5 daily.  This month’s exhibition will include Dean’s annotations on unframed works and additional materials associated with his development of the project. \n\n\n\nA multi-media artist and professor of foundation studies at the Savannah College of Art and Design\, Dean earned his MFA in Fine Arts and Geography from University of St. Andrew’s in the UK.  He received a 2023 Presidential Fellowship and 2024 Sabbatical Award from the Savannah College of Art and Design to help fund the project.  The Vincennes Public Sculpture project helped support the Vincennes installation. \n\n\n\nDean’s work celebrates the many ways experiencing a total eclipse can impact our understanding of and appreciation for the unifying forces of nature. \n\n\n\nSee more at: @nowandtheneclipse24 \n\n\n\nRegular gallery hours Tue – Sat Noon – 5 pm \n\n\n\n812-887-6145 \n\n\n\nNorthwest Territory Art Guild\, 316 Main will present an exhibition of works by members of the Knox County Photographers’ Club\, whose members meet monthly at the Pantheon to critique photos\, learn\, and discuss photography as a hobby and profession.  It was formed June 23\, 2022 and now has 210 members. \n\n\n\nAlso on display will be seasonally themed artworks and a variety of high-quality craft items created by Guild members.  Think Mother’s Day gifts! \n\n\n\nRegular gallery hours: Tue – Sat 11 am – 2 pm. Additional hours by appointment; contact the gallery via Facebook. \n\n\n\nThe Open Gallery\, 329 Main will present Words & Illustrations:The Many Disguises of Suzy Q\, an exhibition based on the book of that title written and illustrated by Fernando Lozano with IA collaboration.  This is a children’s book\, infused with wisdom and charm that can be appreciated by all ages.  The lush illustrations are telling examples of what can be created through the combined efforts of human imagination and IA resources. The story centers around a young mouse\, Suzie Q\, and her quest to find friendship in a world that seems not just frightening\, but dangerous. Come find out how she does it\, and how the artist’s vision helps her on her journey to acceptance. \n\n\n\nLozano will present an Artist’s Talk at 7 p.m. during First Friday’s art walk. \n\n\n\nRegular gallery hours: Tue – Sat 10 – 4:30 pm. \n\n\n\n812- 881-6475.
URL:https://visitvincennes.org/event/first-friday-art-walk-think-art-for-mothers-day/
LOCATION:Main Street/Downtown Vincennes\, Main Street\, Vincennes\, IN\, 47591\, United States
CATEGORIES:Art,Kid-Friendly Event,Miscellaneous
END:VEVENT
END:VCALENDAR