BEGIN:VCALENDAR
VERSION:2.0
PRODID:-//Vincennes/Knox County VTB - ECPv5.14.1//NONSGML v1.0//EN
CALSCALE:GREGORIAN
METHOD:PUBLISH
X-WR-CALNAME:Vincennes/Knox County VTB
X-ORIGINAL-URL:https://visitvincennes.org
X-WR-CALDESC:Events for Vincennes/Knox County VTB
BEGIN:VTIMEZONE
TZID:America/Indiana/Knox
BEGIN:DAYLIGHT
TZOFFSETFROM:-0600
TZOFFSETTO:-0500
TZNAME:CDT
DTSTART:20230312T080000
END:DAYLIGHT
BEGIN:STANDARD
TZOFFSETFROM:-0500
TZOFFSETTO:-0600
TZNAME:CST
DTSTART:20231105T070000
END:STANDARD
END:VTIMEZONE
BEGIN:VEVENT
DTSTART;TZID=America/Indiana/Knox:20230303T170000
DTEND;TZID=America/Indiana/Knox:20230303T200000
DTSTAMP:20260420T045033
CREATED:20220420T155252Z
LAST-MODIFIED:20230228T134537Z
UID:7691-1677862800-1677873600@visitvincennes.org
SUMMARY:First Friday Art Walk
DESCRIPTION:See what is being showcased in our downtown galleries during the “First Friday” Art Walk held each month! Join friends at Art Space Vincennes\, Open Gallery\, Northwest Territory Art Gallery\, and Shircliff Gallery for the First Friday Art Walk\, Friday\, March 3.  Downtown galleries will be open 5 – 8 pm\, Shircliff gallery closes at 6 pm. \n\n\n\n \n\n\n\nArt Space Vincennes LLC\, 521 Main will open Journey through Monotype Prints\, Amanda Barrow and Elizabeth Busey.  Barrow\, originally from Indiana but now working in East Hampton\, Massachusetts and Busey\, from Bloomington\, Indiana met at a workshop in Brooklyn in January 2020. Both artists work non-objectively with a focus on the interaction of geometric shapes. Barrow’s pieces\, influenced by her travels in India\, offer ethereal organic abstractions inspired by nature\, architecture and the human body. In contrast\, Busey’s works are collage based\, constructed with clean-edged tesserae of monotype prints\, cyanotypes\, vintage maps and gold leaf.  Busey also draws inspiration from travel\, with references to topography and plant forms evoking feelings of memory\, longing and connection.  Both artists will be present at the March opening. \n\n\n\nRegular gallery hours: Tue – Sat Noon – 5 pm and by appointment: 812-887-6145  \n\n\n\nNorthwest Territory Art Guild\, 316 Main will present Goose Pond Marsh Madness\, featuring over fifty wildlife photos by Guild Member Steve LaRoche. These will include many of waterfowl and other wildlife from the Goose Pond Fish and Wildlife Area south of Linton.  Staff from Goose Pond have created a window display at the Guild depicting Goose Pond.  Spring themed artworks created by Guild members in a wide variety of styles and media will also be on display and for sale. \n\n\n\nRegular gallery hours: Tue – Sat 11 am – 2 pm. Additional hours by appointment; contact the gallery via Facebook. \n\n\n\nThe Open Gallery\, 329 Main will present a retrospective exhibition of works by John Baeder.  Michael Mullen\, gallery co-director\, has been collecting Baeder’s artworks over the span of a life-long friendship with the artist\, and is now sharing this collection.  It offers the rare opportunity to witness the trajectory of this nationally recognized artist’s career\, including his diner watercolors\, photocollage pieces\, and more recent vintage airplane paintings and matchbook paintings. Yale Professor of Art Vincent Scully wrote that it’s his emotional attachment to his subject matter that sets Baeder’s work apart from many of the other Photorealists: “John Baeder’s paintings seem to me to differ from most of those of his brilliant Magic-Realist contemporaries in that they are gentle\, lyrical\, and deeply in love with their subjects.”       \n\n\n\nThe First Friday Players will again provide rollicking good Irish music for visitors to enjoy.  \n\n\n\nRegular gallery hours: Tue\, Thu 12 – 5 pm\, Sat 11 am – 4 pm and by chance. \n\n\n\n812- 881-6475. \n\n\n\nThe Shircliff Gallery\, First and Harrison Streets\, will be showing Diminution of Light: Alternative Photographic Process.  The exhibition presents works by Larry Gawal\, Mark Schoon & Casey McGuire\, Antonio Martinez and John Steck\, Jr.  Alternative process photography is a term used to describe any non-traditional photographic printing processes such as cyanotype\, salt prints\, photograms and pinholes. A reception for the artists will take place at the gallery on Thursday\, March 2.  The exhibition will continue through March 10. \n\n\n\nRegular gallery hours: weekdays 9 am – 6 pm; the gallery will be open until 6 pm on First Friday March 3. 812-888-4316
URL:https://visitvincennes.org/event/first-friday-art-walk-12-2022-06-03-2022-07-01-2022-09-02-2023-03-03/
CATEGORIES:Art,Kid-Friendly Event
END:VEVENT
END:VCALENDAR