BEGIN:VCALENDAR
VERSION:2.0
PRODID:-//Vincennes/Knox County VTB - ECPv5.14.1//NONSGML v1.0//EN
CALSCALE:GREGORIAN
METHOD:PUBLISH
X-WR-CALNAME:Vincennes/Knox County VTB
X-ORIGINAL-URL:https://visitvincennes.org
X-WR-CALDESC:Events for Vincennes/Knox County VTB
BEGIN:VTIMEZONE
TZID:America/Indiana/Knox
BEGIN:DAYLIGHT
TZOFFSETFROM:-0600
TZOFFSETTO:-0500
TZNAME:CDT
DTSTART:20220313T080000
END:DAYLIGHT
BEGIN:STANDARD
TZOFFSETFROM:-0500
TZOFFSETTO:-0600
TZNAME:CST
DTSTART:20221106T070000
END:STANDARD
END:VTIMEZONE
BEGIN:VEVENT
DTSTART;TZID=America/Indiana/Knox:20221202T170000
DTEND;TZID=America/Indiana/Knox:20221202T200000
DTSTAMP:20260420T044829
CREATED:20220420T155252Z
LAST-MODIFIED:20221101T154914Z
UID:7327-1670000400-1670011200@visitvincennes.org
SUMMARY:First Friday Art Walk
DESCRIPTION:See what is being showcased in our downtown galleries during the “First Friday” Art Walk held each month! The Art Space Gallery\, the Open Gallery and the Northwest Territory Art Guild Gallery offer a chance to view and purchase work by accomplished artists with changing exhibitions each month. From 5:00pm – 8:00pm\, the public is invited to browse through the galleries\, enjoy light snacks and good company. *Check the events listings from this website for the next “First Friday” coming up!
URL:https://visitvincennes.org/event/first-friday-art-walk-12-2022-06-03-2022-07-01-2022-09-02-2022-12-02/2022-12-02/
CATEGORIES:Art,Kid-Friendly Event
END:VEVENT
END:VCALENDAR