BEGIN:VCALENDAR
VERSION:2.0
PRODID:-//Vincennes/Knox County VTB - ECPv5.14.1//NONSGML v1.0//EN
CALSCALE:GREGORIAN
METHOD:PUBLISH
X-WR-CALNAME:Vincennes/Knox County VTB
X-ORIGINAL-URL:https://visitvincennes.org
X-WR-CALDESC:Events for Vincennes/Knox County VTB
BEGIN:VTIMEZONE
TZID:America/Indiana/Knox
BEGIN:DAYLIGHT
TZOFFSETFROM:-0600
TZOFFSETTO:-0500
TZNAME:CDT
DTSTART:20240310T080000
END:DAYLIGHT
BEGIN:STANDARD
TZOFFSETFROM:-0500
TZOFFSETTO:-0600
TZNAME:CST
DTSTART:20241103T070000
END:STANDARD
END:VTIMEZONE
BEGIN:VEVENT
DTSTART;TZID=America/Indiana/Knox:20241206T150000
DTEND;TZID=America/Indiana/Knox:20241207T160000
DTSTAMP:20260420T045612
CREATED:20240903T154345Z
LAST-MODIFIED:20240903T154818Z
UID:13647-1733497200-1733587200@visitvincennes.org
SUMMARY:First City Christkindlmarkt
DESCRIPTION:The First City Christkindlmarkt in Vincennes\, Indiana\, is a charming holiday market inspired by traditional German Christmas markets. Held in the heart of Indiana’s oldest city\, this festive two-day event takes place in early December and transforms downtown Vincennes into a winter wonderland. \n\n\n\nVisitors can explore booths with handcrafted gifts\, holiday decorations\, and artisanal goods\, perfect for finding unique Christmas presents. Local vendors offer homemade treats like cookies\, candies\, and mulled wine\, while food stalls serve hearty German-inspired dishes such as sausage\, pretzels\, and more. \n\n\n\nThe market also features live music\, carolers\, visits with Santa Claus\, and traditional Christmas crafts add to the magical atmosphere. The event celebrates the community’s heritage while spreading holiday cheer and fostering a sense of togetherness. \n\n\n\nWhether you’re looking for festive fun or a bit of holiday shopping\, the First City Christkindlmarkt captures the spirit of Christmas in a warm and welcoming setting. \n\n\n\nWhile you’re in town\, the Friday night of Christkindlmarkt is also the Christmas at Grouseland event with horse-drawn carriage rides and the First Friday art walk when three local galleries open their doors with special entertainment only a stone’s throw from the market!
URL:https://visitvincennes.org/event/first-city-christkindlmarkt-2/
LOCATION:Patrick Henry Square\, Market Street\, Vincennes\, Indiana\, 47591\, United States
END:VEVENT
END:VCALENDAR