BEGIN:VCALENDAR
VERSION:2.0
PRODID:-//Vincennes/Knox County VTB - ECPv5.14.1//NONSGML v1.0//EN
CALSCALE:GREGORIAN
METHOD:PUBLISH
X-WR-CALNAME:Vincennes/Knox County VTB
X-ORIGINAL-URL:https://visitvincennes.org
X-WR-CALDESC:Events for Vincennes/Knox County VTB
BEGIN:VTIMEZONE
TZID:America/Indiana/Knox
BEGIN:DAYLIGHT
TZOFFSETFROM:-0600
TZOFFSETTO:-0500
TZNAME:CDT
DTSTART:20210314T080000
END:DAYLIGHT
BEGIN:STANDARD
TZOFFSETFROM:-0500
TZOFFSETTO:-0600
TZNAME:CST
DTSTART:20211107T070000
END:STANDARD
END:VTIMEZONE
BEGIN:VEVENT
DTSTART;TZID=America/Indiana/Knox:20210828T160000
DTEND;TZID=America/Indiana/Knox:20210828T230000
DTSTAMP:20260419T083528
CREATED:20210604T202314Z
LAST-MODIFIED:20210812T131649Z
UID:5010-1630166400-1630191600@visitvincennes.org
SUMMARY:Festival Latino -  Riverwalk\, Downtown Vincennes
DESCRIPTION:Mark your calendar for one of the most colorful events in Vincennes! The Festival Latino will be held from 4:00pm – 11:00pm on Saturday\, August 28 on the Riverwalk in Downtown Vincennes. The festival recognizes and celebrates our Latino community and their significant contributions to the Wabash Valley. The family event includes great children’s activities\, food booths\, vendors and live salsa music performed by the featured mariachi group\, Grupo Bembe!
URL:https://visitvincennes.org/event/festival-latino-riverwalk-downtown-vincennes/
LOCATION:Riverwalk\, 16 North 1st Street\, Vincennes\, Indiana\, 47591\, United States
ATTACH;FMTTYPE=image/png:https://visitvincennes.org/wp-content/uploads/2021/06/Festival-Latino-2021-POSTER.png
END:VEVENT
END:VCALENDAR