BEGIN:VCALENDAR
VERSION:2.0
PRODID:-//Vincennes/Knox County VTB - ECPv5.14.1//NONSGML v1.0//EN
CALSCALE:GREGORIAN
METHOD:PUBLISH
X-WR-CALNAME:Vincennes/Knox County VTB
X-ORIGINAL-URL:https://visitvincennes.org
X-WR-CALDESC:Events for Vincennes/Knox County VTB
BEGIN:VTIMEZONE
TZID:America/Indiana/Knox
BEGIN:DAYLIGHT
TZOFFSETFROM:-0600
TZOFFSETTO:-0500
TZNAME:CDT
DTSTART:20250309T080000
END:DAYLIGHT
BEGIN:STANDARD
TZOFFSETFROM:-0500
TZOFFSETTO:-0600
TZNAME:CST
DTSTART:20251102T070000
END:STANDARD
END:VTIMEZONE
BEGIN:VEVENT
DTSTART;TZID=America/Indiana/Knox:20250221T190000
DTEND;TZID=America/Indiana/Knox:20250221T210000
DTSTAMP:20260420T225852
CREATED:20250129T152134Z
LAST-MODIFIED:20250129T152942Z
UID:14027-1740164400-1740171600@visitvincennes.org
SUMMARY:Death by Chocolate
DESCRIPTION:It’s a gala evening when billionaire chocolate magnate Hershey Barr brings together local “celebrities” in a bake-off contest. The coveted prize is a lucrative contract for their confection to be produced by Barr Chocolates. As each contestant describes their creation\, stories of scandal\, rivalry\, and deception are revealed. Who has it in for whom? And how far will someone go for retribution? \n\n\n\nTIME: 7:00 PMTICKETS: $20 per person \n\n\n\nBeverages and chocolate desserts will be served. The event will also include a silent art auction.  \n\n\n\nSee less
URL:https://visitvincennes.org/event/death-by-chocolate/
END:VEVENT
END:VCALENDAR