BEGIN:VCALENDAR
VERSION:2.0
PRODID:-//Vincennes/Knox County VTB - ECPv5.14.1//NONSGML v1.0//EN
CALSCALE:GREGORIAN
METHOD:PUBLISH
X-WR-CALNAME:Vincennes/Knox County VTB
X-ORIGINAL-URL:https://visitvincennes.org
X-WR-CALDESC:Events for Vincennes/Knox County VTB
BEGIN:VTIMEZONE
TZID:America/Indiana/Knox
BEGIN:DAYLIGHT
TZOFFSETFROM:-0600
TZOFFSETTO:-0500
TZNAME:CDT
DTSTART:20210314T080000
END:DAYLIGHT
BEGIN:STANDARD
TZOFFSETFROM:-0500
TZOFFSETTO:-0600
TZNAME:CST
DTSTART:20211107T070000
END:STANDARD
END:VTIMEZONE
BEGIN:VEVENT
DTSTART;TZID=America/Indiana/Knox:20210814T100000
DTEND;TZID=America/Indiana/Knox:20210814T160000
DTSTAMP:20260419T100929
CREATED:20210713T171923Z
LAST-MODIFIED:20210726T134920Z
UID:5412-1628935200-1628956800@visitvincennes.org
SUMMARY:Colonial French Day
DESCRIPTION:Discover the sights\, sounds\, smells and tastes of Colonial French Vincennes\, and learn about the daily life of a French Fur Trader. Take a tour through the Old French House\, explore early French life\, find out about old French gardening techniques\, and more. This event takes place at the Old French House\, 509 N. First St.\, Vincennes. For more information\, call: (812) 882-7422 \n\n\n\nPrice: $8/adults\, $5/youth\, 25% discount for members
URL:https://visitvincennes.org/event/colonial-french-day/
LOCATION:Old French House\, 509 N. 1st Street\, Vincennes\, Indiana\, 47591\, United States
END:VEVENT
END:VCALENDAR