BEGIN:VCALENDAR
VERSION:2.0
PRODID:-//Vincennes/Knox County VTB - ECPv5.14.1//NONSGML v1.0//EN
CALSCALE:GREGORIAN
METHOD:PUBLISH
X-WR-CALNAME:Vincennes/Knox County VTB
X-ORIGINAL-URL:https://visitvincennes.org
X-WR-CALDESC:Events for Vincennes/Knox County VTB
BEGIN:VTIMEZONE
TZID:America/Indiana/Knox
BEGIN:DAYLIGHT
TZOFFSETFROM:-0600
TZOFFSETTO:-0500
TZNAME:CDT
DTSTART:20210314T080000
END:DAYLIGHT
BEGIN:STANDARD
TZOFFSETFROM:-0500
TZOFFSETTO:-0600
TZNAME:CST
DTSTART:20211107T070000
END:STANDARD
END:VTIMEZONE
BEGIN:VEVENT
DTSTART;TZID=America/Indiana/Knox:20211112T160000
DTEND;TZID=America/Indiana/Knox:20211112T190000
DTSTAMP:20260423T232950
CREATED:20211103T174136Z
LAST-MODIFIED:20211103T174137Z
UID:6119-1636732800-1636743600@visitvincennes.org
SUMMARY:Christmas at The Granary
DESCRIPTION:Visit The Granary for their special two-day Christmas event! \n\n\n\nThe Granary will be open on Friday\, November 12th from 4 pm-7 pm\, and Saturday\, November 13th  from 10 am – 2 pm. Located at their family’s grain elevator—Anson Farm Services—in Monroe City\, Indiana\, The Granary specializes in unique\, one-of-a-kind vintage and antique items to style homes. They will have many vintage Christmas items to decorate homes for the season\, as well as some giftable items and holiday Christmas shirts. \n\n\n\nFor updates and sneak peeks of what you can find at The Granary’s Christmas event\, be sure to follow them on both Facebook and Instagram at @thegranaryfreshvintage.   \n\n\n\nFor more information about this special event\, visit The Granary’s Facebook page by clicking HERE.
URL:https://visitvincennes.org/event/christmas-at-the-granary/2021-11-12/
LOCATION:The Granary\, 3802 State Rd 241\, Monroe City\, Indiana\, 47557\, United States
CATEGORIES:Holiday,Kid-Friendly Event
END:VEVENT
END:VCALENDAR