BEGIN:VCALENDAR
VERSION:2.0
PRODID:-//Vincennes/Knox County VTB - ECPv5.14.1//NONSGML v1.0//EN
CALSCALE:GREGORIAN
METHOD:PUBLISH
X-WR-CALNAME:Vincennes/Knox County VTB
X-ORIGINAL-URL:https://visitvincennes.org
X-WR-CALDESC:Events for Vincennes/Knox County VTB
BEGIN:VTIMEZONE
TZID:America/Indiana/Knox
BEGIN:DAYLIGHT
TZOFFSETFROM:-0600
TZOFFSETTO:-0500
TZNAME:CDT
DTSTART:20210314T080000
END:DAYLIGHT
BEGIN:STANDARD
TZOFFSETFROM:-0500
TZOFFSETTO:-0600
TZNAME:CST
DTSTART:20211107T070000
END:STANDARD
END:VTIMEZONE
BEGIN:VEVENT
DTSTART;TZID=America/Indiana/Knox:20211203T183000
DTEND;TZID=America/Indiana/Knox:20211203T213000
DTSTAMP:20260423T133353
CREATED:20200825T131808Z
LAST-MODIFIED:20211116T193940Z
UID:3525-1638556200-1638567000@visitvincennes.org
SUMMARY:Christmas at Grouseland
DESCRIPTION:View the elegant William Henry Harrison by candlelight decorated for Christmas and experience the holiday as the Harrison family did over 200 years ago!  Built in 1803\, Grouseland is the mansion built by former Indiana Territorial Governor and 9th U.S. President\, William Henry Harrison. Each year the festivities carry a new theme with period re-enactors portraying characters from the territorial period. New this year\, a live nativity on the lawn.  This fascinating event is very family-friendly and sure to get you in the spirit of a traditional Christmas from the past! There is no admission charged but donations are gratefully accepted.
URL:https://visitvincennes.org/event/christmas-at-grouseland/
LOCATION:Grouseland\, 3 West Scott Street\, Vincennes\, Indiana\, 47591\, United States
END:VEVENT
END:VCALENDAR