BEGIN:VCALENDAR
VERSION:2.0
PRODID:-//Vincennes/Knox County VTB - ECPv5.14.1//NONSGML v1.0//EN
CALSCALE:GREGORIAN
METHOD:PUBLISH
X-WR-CALNAME:Vincennes/Knox County VTB
X-ORIGINAL-URL:https://visitvincennes.org
X-WR-CALDESC:Events for Vincennes/Knox County VTB
BEGIN:VTIMEZONE
TZID:America/Indiana/Knox
BEGIN:DAYLIGHT
TZOFFSETFROM:-0600
TZOFFSETTO:-0500
TZNAME:CDT
DTSTART:20200308T080000
END:DAYLIGHT
BEGIN:STANDARD
TZOFFSETFROM:-0500
TZOFFSETTO:-0600
TZNAME:CST
DTSTART:20201101T070000
END:STANDARD
END:VTIMEZONE
BEGIN:VEVENT
DTSTART;TZID=America/Indiana/Knox:20200214T180000
DTEND;TZID=America/Indiana/Knox:20200214T180000
DTSTAMP:20260422T150043
CREATED:20200216T001639Z
LAST-MODIFIED:20200216T001639Z
UID:461-1581703200-1581703200@visitvincennes.org
SUMMARY:Build-and-Fly Program
DESCRIPTION:Youth interested in Aviation or Technology ages 8 – 18 years old are invited to the Build-and-Fly Program at the Mid-American Air Center in Lawrenceville\, Illinois.  This program is designed to be a hands on building and flying experience with remote control aircraft to give youth a chance to experience the fun of flying first hand and promote R/C model building/flying\, full scale sport flying and careers in Aviation.  The initial building session will be held on Saturday\, February 15 from 8:00am – 12:00pm (CST) and the Club Fly-In Breakfast will be held on Saturday\, February 29 from 8:00am – 12:00pm (CST).  Each participant will have an opportunity to work on building the club’s project airplane\, fly a RealFlilght R/C flight simulator\, learn about principles of flight\, and fly an R/C trainer airplane with an instructor (weather permitting).  Interested individuals should email sstine99@aol.com to register for the event.  The cost is $10/participant with lunch and drinks provided.
URL:https://visitvincennes.org/event/build-and-fly-program/
LOCATION:Mid-American Air Center\, Lawrenceville\, IL\, 13608 Hangar Road\, Lawrenceville\, IL\, 62439\, United States
END:VEVENT
END:VCALENDAR