BEGIN:VCALENDAR
VERSION:2.0
PRODID:-//Vincennes/Knox County VTB - ECPv5.14.1//NONSGML v1.0//EN
CALSCALE:GREGORIAN
METHOD:PUBLISH
X-WR-CALNAME:Vincennes/Knox County VTB
X-ORIGINAL-URL:https://visitvincennes.org
X-WR-CALDESC:Events for Vincennes/Knox County VTB
BEGIN:VTIMEZONE
TZID:America/Indiana/Knox
BEGIN:DAYLIGHT
TZOFFSETFROM:-0600
TZOFFSETTO:-0500
TZNAME:CDT
DTSTART:20220313T080000
END:DAYLIGHT
BEGIN:STANDARD
TZOFFSETFROM:-0500
TZOFFSETTO:-0600
TZNAME:CST
DTSTART:20221106T070000
END:STANDARD
END:VTIMEZONE
BEGIN:VEVENT
DTSTART;TZID=America/Indiana/Knox:20220311T170000
DTEND;TZID=America/Indiana/Knox:20220311T200000
DTSTAMP:20260423T232732
CREATED:20220225T191453Z
LAST-MODIFIED:20220225T191455Z
UID:6680-1647018000-1647028800@visitvincennes.org
SUMMARY:Boutique Night on Main
DESCRIPTION:Don’t miss out on this awesome night happening on Main Street! Shop some of Knox County’s best locally-owned boutiques and small businesses during their extended hours on Friday\, March 11th.
URL:https://visitvincennes.org/event/boutique-night-on-main/
LOCATION:Main Street/Downtown Vincennes\, Main Street\, Vincennes\, IN\, 47591\, United States
ATTACH;FMTTYPE=image/jpeg:https://visitvincennes.org/wp-content/uploads/2022/02/Boutique-Night-on-Main-2022jpg.jpg
ORGANIZER;CN="Downtown%20Vincennes%20Association":MAILTO:ellen@knoxcountychamber.com
END:VEVENT
END:VCALENDAR