BEGIN:VCALENDAR
VERSION:2.0
PRODID:-//Vincennes/Knox County VTB - ECPv5.14.1//NONSGML v1.0//EN
CALSCALE:GREGORIAN
METHOD:PUBLISH
X-WR-CALNAME:Vincennes/Knox County VTB
X-ORIGINAL-URL:https://visitvincennes.org
X-WR-CALDESC:Events for Vincennes/Knox County VTB
BEGIN:VTIMEZONE
TZID:America/Indiana/Knox
BEGIN:DAYLIGHT
TZOFFSETFROM:-0600
TZOFFSETTO:-0500
TZNAME:CDT
DTSTART:20230312T080000
END:DAYLIGHT
BEGIN:STANDARD
TZOFFSETFROM:-0500
TZOFFSETTO:-0600
TZNAME:CST
DTSTART:20231105T070000
END:STANDARD
END:VTIMEZONE
BEGIN:VEVENT
DTSTART;TZID=America/Indiana/Knox:20230223T190000
DTEND;TZID=America/Indiana/Knox:20230223T193000
DTSTAMP:20260421T022823
CREATED:20230201T161144Z
LAST-MODIFIED:20230201T161145Z
UID:8859-1677178800-1677180600@visitvincennes.org
SUMMARY:A Book and A Brew
DESCRIPTION:Vincennes/Knox County Tourism\, First City Public Sculpture Project and Wabash Valley Progressives are hosting a Books and Brews event to discuss “Black in Indiana” by Eunice Brewer-Trotter at 7 p.m. Feb 23 at Vincennes Brewing Company. This an informal gathering for everyone\, where we’ll just discuss the book. People are invited to come\, even if they’re curious\, (even\, yes\, if you didn’t quite finish the book before the meeting.) Here’s a description: \n\n\n\n“Life for Blacks in Southern Indiana in the 1820s could be brutal\, but Mary Bateman Clark’s victorious lawsuit helped advance change. This book is a must-read which looks beyond typical stories about slavery. Book includes genealogical information about numerous African American families in Knox County\, Indiana before 1820.” \n\n\n\nThe library has a copy\, it’s available free with Kindle Unlimited and Audible\, and here’s an Amazon link: https://www.amazon.com/Black-Indiana-Eunice-Brewer-Trotter/dp/B08PHWFH54.
URL:https://visitvincennes.org/event/book-and-brew/
LOCATION:Vincennes Brewing Company\, 124 Main Street\, Vincennes\, Indiana\, 47591\, United States
CATEGORIES:21+ Event,Food & Drink,History,Miscellaneous
ATTACH;FMTTYPE=image/jpeg:https://visitvincennes.org/wp-content/uploads/2023/02/black-in-Indiana-cover.jpg
END:VEVENT
END:VCALENDAR