BEGIN:VCALENDAR
VERSION:2.0
PRODID:-//Vincennes/Knox County VTB - ECPv5.14.1//NONSGML v1.0//EN
CALSCALE:GREGORIAN
METHOD:PUBLISH
X-WR-CALNAME:Vincennes/Knox County VTB
X-ORIGINAL-URL:https://visitvincennes.org
X-WR-CALDESC:Events for Vincennes/Knox County VTB
BEGIN:VTIMEZONE
TZID:America/Indiana/Knox
BEGIN:DAYLIGHT
TZOFFSETFROM:-0600
TZOFFSETTO:-0500
TZNAME:CDT
DTSTART:20210314T080000
END:DAYLIGHT
BEGIN:STANDARD
TZOFFSETFROM:-0500
TZOFFSETTO:-0600
TZNAME:CST
DTSTART:20211107T070000
END:STANDARD
END:VTIMEZONE
BEGIN:VEVENT
DTSTART;TZID=America/Indiana/Knox:20210911T183000
DTEND;TZID=America/Indiana/Knox:20210911T213000
DTSTAMP:20260424T143029
CREATED:20210811T141833Z
LAST-MODIFIED:20210909T152811Z
UID:5577-1631385000-1631395800@visitvincennes.org
SUMMARY:Astronomy Night - Junior Ranger Program
DESCRIPTION:Before GPS and modern maps\, night skies were the guide for explorers in the frontier. Come to the GRC grounds from 6:30- 9:30 pm to use a telescope and hear from those who work in the field of Astronomy. \n\n\n\nThis event is a part of the National Parks Service Junior Ranger Program and is intended for children between the ages of 5 to 13\, although people of all ages can participate.
URL:https://visitvincennes.org/event/astronomy-night/
END:VEVENT
END:VCALENDAR