BEGIN:VCALENDAR
VERSION:2.0
PRODID:-//Vincennes/Knox County VTB - ECPv5.14.1//NONSGML v1.0//EN
CALSCALE:GREGORIAN
METHOD:PUBLISH
X-WR-CALNAME:Vincennes/Knox County VTB
X-ORIGINAL-URL:https://visitvincennes.org
X-WR-CALDESC:Events for Vincennes/Knox County VTB
BEGIN:VTIMEZONE
TZID:America/Indiana/Knox
BEGIN:DAYLIGHT
TZOFFSETFROM:-0600
TZOFFSETTO:-0500
TZNAME:CDT
DTSTART:20240310T080000
END:DAYLIGHT
BEGIN:STANDARD
TZOFFSETFROM:-0500
TZOFFSETTO:-0600
TZNAME:CST
DTSTART:20241103T070000
END:STANDARD
END:VTIMEZONE
BEGIN:VEVENT
DTSTART;TZID=America/Indiana/Knox:20241003T193000
DTEND;TZID=America/Indiana/Knox:20241003T210000
DTSTAMP:20260420T073749
CREATED:20241001T190036Z
LAST-MODIFIED:20241001T190046Z
UID:13782-1727983800-1727989200@visitvincennes.org
SUMMARY:Artrageous
DESCRIPTION:No Caption				\n										\n									\n						\n						\n							\n				\n					\n					\n					\n				\n				\n											\n											\n					No Caption				\n										\n									\n						\n						\n							\n				\n					\n					\n					\n				\n				\n											\n											\n					No Caption				\n										\n									\n						\n						\n							\n				\n					\n					\n					\n				\n				\n											\n											\n					No Caption				\n										\n									\n						\n											\n							\n											\n									\n\n\nArtrageous is a troupe of misfits artists\, singers\, dancers and musicians who started as friends doing street theatre in Vancouver. Together they started the “All and Everything Theater”\, a non-profit Children’s Theater focusing on Children’s Entertainment\, Street Theater and Life-sized Bunraku Puppetry. \n\n\n\nIn the late 80’s on Christmas Day\, their hand built theater building\, with all their props and puppets\, burnt to the ground. Instead of packing it in\, they created a new act; this troupe has performed for the likes of Sir Richard Branson\, Steve Forbes\, General Colin Powell… and in venues and events all over the world from India to Thailand\, Paris to Austria performing at over 2000+ events in their History. \n\n\n\nAs people who live and breathe the Arts\, Creativity\, Community\, and Inspiration\, they created Artrageous to pay tribute to their roots and share their passion with the world. A Show that focuses on all the things they believe in and everything that got them to this place. \n\n\n\nArt\, Music\, Theater\, Singing\, Dancing\, Audience Interaction…All on one stage. All done as a team of friends seeing the world and sharing a love of the Arts. \n\n\n\nImagine witnessing the creativity of an artist creating a masterpiece before your eyes in mere moments. Combined with captivating vocals\, intricate choreography and exciting music\, Artrageous takes you on a visual journey and a high energy ride of inspiration\, creativity\, and engagement. \n\n\n\nOur troupe of artists\, musicians\, singers and dancers pay tribute to a variety of art forms\, icons and musical genres throughout the evening. The result ~ A uniquely entertaining\, Masterpiece show culminating in a gallery of fabulous finished paintings. \n\n\n\nA signature of the Artrageous Troupe\, from the very beginning of their long history\, is interaction and engagement… so be prepared to be a part of the show. \n\n\n\nEach show is as unique as eachaudience and we can’t do it without you! \n\n\n\n…………………………….. \n\n\n\nPerformance starts at 7:30pmin the Red Skelton Performing Arts Center. \n\n\n\nTo order Individual or Season Tickets\, pleasevisit our website at vinu.edu/communityseries \n\n\n\n…………………………………. \n\n\n\nFor more information\, please contact usat vualumni@vin.edu or call us at 812.888.4354
URL:https://visitvincennes.org/event/artrageous/
LOCATION:Red Skelton Performing Arts Center\, 20 Red Skelton Boulevard\, Vincennes\, IN\, 47591\, United States
CATEGORIES:Art,Kid-Friendly Event,Live Music,Miscellaneous,Theatre
ATTACH;FMTTYPE=image/jpeg:https://visitvincennes.org/wp-content/uploads/2024/10/artrageous-1.jpg
ORGANIZER;CN="Vincennes%20University%20Alumni%20Association":MAILTO:vualumni@vinu.edu
END:VEVENT
END:VCALENDAR