BEGIN:VCALENDAR
VERSION:2.0
PRODID:-//Vincennes/Knox County VTB - ECPv5.14.1//NONSGML v1.0//EN
CALSCALE:GREGORIAN
METHOD:PUBLISH
X-WR-CALNAME:Vincennes/Knox County VTB
X-ORIGINAL-URL:https://visitvincennes.org
X-WR-CALDESC:Events for Vincennes/Knox County VTB
BEGIN:VTIMEZONE
TZID:America/Indiana/Knox
BEGIN:DAYLIGHT
TZOFFSETFROM:-0600
TZOFFSETTO:-0500
TZNAME:CDT
DTSTART:20220313T080000
END:DAYLIGHT
BEGIN:STANDARD
TZOFFSETFROM:-0500
TZOFFSETTO:-0600
TZNAME:CST
DTSTART:20221106T070000
END:STANDARD
END:VTIMEZONE
BEGIN:VEVENT
DTSTART;TZID=America/Indiana/Knox:20220422T190000
DTEND;TZID=America/Indiana/Knox:20220424T150000
DTSTAMP:20260421T043601
CREATED:20210527T141345Z
LAST-MODIFIED:20220223T205703Z
UID:4990-1650654000-1650812400@visitvincennes.org
SUMMARY:All Shook Up\, Musical
DESCRIPTION:Inspired by and featuring the songs of Elvis Presley \n\n\n\nIt’s 1955\, and into a square little town in a square little state rides a guitar-playing young man who changes everything and everyone he meets. Loosely based on Shakespeare’s Twelfth Night\, this hip-swiveling\, lip-curling musical fantasy will have you jumpin’ out of your blue suede shoes with such classics as “Heartbreak Hotel\,” “Hound Dog\,” “Jailhouse Rock\,” and “Don’t Be Cruel.”
URL:https://visitvincennes.org/event/all-shook-up-musical/
LOCATION:Old Town Players Theatre & Arts Center\, 432 Broadway Street\, Vincennes\, Indiana\, 47591\, United States
ATTACH;FMTTYPE=image/png:https://visitvincennes.org/wp-content/uploads/2021/05/All-Shook-Up.png
END:VEVENT
END:VCALENDAR