BEGIN:VCALENDAR
VERSION:2.0
PRODID:-//Vincennes/Knox County VTB - ECPv5.14.1//NONSGML v1.0//EN
CALSCALE:GREGORIAN
METHOD:PUBLISH
X-WR-CALNAME:Vincennes/Knox County VTB
X-ORIGINAL-URL:https://visitvincennes.org
X-WR-CALDESC:Events for Vincennes/Knox County VTB
BEGIN:VTIMEZONE
TZID:America/Indiana/Knox
BEGIN:DAYLIGHT
TZOFFSETFROM:-0600
TZOFFSETTO:-0500
TZNAME:CDT
DTSTART:20220313T080000
END:DAYLIGHT
BEGIN:STANDARD
TZOFFSETFROM:-0500
TZOFFSETTO:-0600
TZNAME:CST
DTSTART:20221106T070000
END:STANDARD
END:VTIMEZONE
BEGIN:VEVENT
DTSTART;TZID=America/Indiana/Knox:20220924T110000
DTEND;TZID=America/Indiana/Knox:20220924T140000
DTSTAMP:20260424T113808
CREATED:20220919T133945Z
LAST-MODIFIED:20220919T133947Z
UID:7990-1664017200-1664028000@visitvincennes.org
SUMMARY:5th Annual Monarch Madness
DESCRIPTION:
URL:https://visitvincennes.org/event/5th-annual-monarch-madness/
LOCATION:Fox Ridge Nature Park\, 1364 North Hillcrest Road\, Vincennes\, Indiana\, 47591
CATEGORIES:Kid-Friendly Event,Miscellaneous
END:VEVENT
END:VCALENDAR